BEGIN:VCALENDAR
VERSION:2.0
PRODID:-//Kaatach Lekland i Stockholm - ECPv6.15.18//NONSGML v1.0//EN
CALSCALE:GREGORIAN
METHOD:PUBLISH
X-WR-CALNAME:Kaatach Lekland i Stockholm
X-ORIGINAL-URL:https://kaatach.se
X-WR-CALDESC:Händelser för Kaatach Lekland i Stockholm
REFRESH-INTERVAL;VALUE=DURATION:PT1H
X-Robots-Tag:noindex
X-PUBLISHED-TTL:PT1H
BEGIN:VTIMEZONE
TZID:Europe/Stockholm
BEGIN:DAYLIGHT
TZOFFSETFROM:+0100
TZOFFSETTO:+0200
TZNAME:CEST
DTSTART:20250330T010000
END:DAYLIGHT
BEGIN:STANDARD
TZOFFSETFROM:+0200
TZOFFSETTO:+0100
TZNAME:CET
DTSTART:20251026T010000
END:STANDARD
BEGIN:DAYLIGHT
TZOFFSETFROM:+0100
TZOFFSETTO:+0200
TZNAME:CEST
DTSTART:20260329T010000
END:DAYLIGHT
BEGIN:STANDARD
TZOFFSETFROM:+0200
TZOFFSETTO:+0100
TZNAME:CET
DTSTART:20261025T010000
END:STANDARD
BEGIN:DAYLIGHT
TZOFFSETFROM:+0100
TZOFFSETTO:+0200
TZNAME:CEST
DTSTART:20270328T010000
END:DAYLIGHT
BEGIN:STANDARD
TZOFFSETFROM:+0200
TZOFFSETTO:+0100
TZNAME:CET
DTSTART:20271031T010000
END:STANDARD
END:VTIMEZONE
BEGIN:VEVENT
DTSTART;TZID=Europe/Stockholm:20260425T123000
DTEND;TZID=Europe/Stockholm:20260425T133000
DTSTAMP:20260420T114955
CREATED:20260119T095520Z
LAST-MODIFIED:20260119T095755Z
UID:392119-1777120200-1777123800@kaatach.se
SUMMARY:Extra kul med ansiktsmålning - flera olika motiv att välja på
DESCRIPTION:Ansiktsmålning skapar magi 🎨\nGör besöket extra minnesvärt med färgsprakande ansiktsmålning! Vi målar allt från fjärilar och superhjältar till fantasifulla motiv – alltid med hudvänliga färger och ett leende.✨ Varje månad har vi en speciell lördag då vi erbjuder ansiktsmålning för endast 40 kr per barn. Perfekt för en rolig och kreativ upplevelse för hela familjen!
URL:https://kaatach.se/evenemang/extra-roligt-med-ansiktsmalning-flera-olika-motiv-att-valja-pa/
ATTACH;FMTTYPE=image/jpeg:https://kaatach.se/wp-content/uploads/2024/10/9455b439850a32693e137fc999fba071.jpg
END:VEVENT
BEGIN:VEVENT
DTSTART;TZID=Europe/Stockholm:20260425T150000
DTEND;TZID=Europe/Stockholm:20260425T160000
DTSTAMP:20260420T114955
CREATED:20260119T101122Z
LAST-MODIFIED:20260119T101122Z
UID:392128-1777129200-1777132800@kaatach.se
SUMMARY:Kom och ta körkort med Krabaten
DESCRIPTION:Krabatens Trafikskola 🚦\nLåt barnen leka\, lära och köra! Krabatens Trafikskola börjar med en rolig teorilektion där barnen får lära sig grunderna i trafik och säkerhet. Därefter fotograferas alla deltagare och vi tillverkar personliga körkort till varje barn.Trafikskolan hålls på fasta dagar och tider och kostar 40 kr per barn. En uppskattad aktivitet som kombinerar lek\, lärande och ett minne att ta med hem. \n \n 
URL:https://kaatach.se/evenemang/kom-och-ta-korkort-med-krabaten-4/
ATTACH;FMTTYPE=image/jpeg:https://kaatach.se/wp-content/uploads/2020/12/Tillval-Korkortskalas-pojke-1.jpg
END:VEVENT
END:VCALENDAR