BEGIN:VCALENDAR
VERSION:2.0
PRODID:-//Kaatach Lekland i Stockholm - ECPv6.15.18//NONSGML v1.0//EN
CALSCALE:GREGORIAN
METHOD:PUBLISH
X-WR-CALNAME:Kaatach Lekland i Stockholm
X-ORIGINAL-URL:https://kaatach.se
X-WR-CALDESC:Händelser för Kaatach Lekland i Stockholm
REFRESH-INTERVAL;VALUE=DURATION:PT1H
X-Robots-Tag:noindex
X-PUBLISHED-TTL:PT1H
BEGIN:VTIMEZONE
TZID:Europe/Stockholm
BEGIN:DAYLIGHT
TZOFFSETFROM:+0100
TZOFFSETTO:+0200
TZNAME:CEST
DTSTART:20220327T010000
END:DAYLIGHT
BEGIN:STANDARD
TZOFFSETFROM:+0200
TZOFFSETTO:+0100
TZNAME:CET
DTSTART:20221030T010000
END:STANDARD
BEGIN:DAYLIGHT
TZOFFSETFROM:+0100
TZOFFSETTO:+0200
TZNAME:CEST
DTSTART:20230326T010000
END:DAYLIGHT
BEGIN:STANDARD
TZOFFSETFROM:+0200
TZOFFSETTO:+0100
TZNAME:CET
DTSTART:20231029T010000
END:STANDARD
BEGIN:DAYLIGHT
TZOFFSETFROM:+0100
TZOFFSETTO:+0200
TZNAME:CEST
DTSTART:20240331T010000
END:DAYLIGHT
BEGIN:STANDARD
TZOFFSETFROM:+0200
TZOFFSETTO:+0100
TZNAME:CET
DTSTART:20241027T010000
END:STANDARD
END:VTIMEZONE
BEGIN:VEVENT
DTSTART;TZID=Europe/Stockholm:20230717T103000
DTEND;TZID=Europe/Stockholm:20230717T113000
DTSTAMP:20260421T104155
CREATED:20230703T114011Z
LAST-MODIFIED:20230703T114011Z
UID:199821-1689589800-1689593400@kaatach.se
SUMMARY:Superkul med ansiktsmålning! 17/7
DESCRIPTION:Superkul med ansiktsmålning!\nVår personal målar alla barn som vill med valfria motiv\, det finns flera olika att välja mellan. \nAnsiktsmålningen kostar 40kr per barn och betalas i kassan innan ansiktsmålningen äger rum. \nVälkomna hälsar Victoria
URL:https://kaatach.se/evenemang/superkul-med-ansiktsmalning-17-7/
ATTACH;FMTTYPE=image/jpeg:https://kaatach.se/wp-content/uploads/2020/12/Kalasmenyer-Tillval-Ansiktsmalning.jpg
END:VEVENT
END:VCALENDAR