BEGIN:VCALENDAR
VERSION:2.0
PRODID:-//Kaatach Lekland i Stockholm - ECPv6.15.18//NONSGML v1.0//EN
CALSCALE:GREGORIAN
METHOD:PUBLISH
X-WR-CALNAME:Kaatach Lekland i Stockholm
X-ORIGINAL-URL:https://kaatach.se
X-WR-CALDESC:Händelser för Kaatach Lekland i Stockholm
REFRESH-INTERVAL;VALUE=DURATION:PT1H
X-Robots-Tag:noindex
X-PUBLISHED-TTL:PT1H
BEGIN:VTIMEZONE
TZID:Europe/Stockholm
BEGIN:DAYLIGHT
TZOFFSETFROM:+0100
TZOFFSETTO:+0200
TZNAME:CEST
DTSTART:20230326T010000
END:DAYLIGHT
BEGIN:STANDARD
TZOFFSETFROM:+0200
TZOFFSETTO:+0100
TZNAME:CET
DTSTART:20231029T010000
END:STANDARD
BEGIN:DAYLIGHT
TZOFFSETFROM:+0100
TZOFFSETTO:+0200
TZNAME:CEST
DTSTART:20240331T010000
END:DAYLIGHT
BEGIN:STANDARD
TZOFFSETFROM:+0200
TZOFFSETTO:+0100
TZNAME:CET
DTSTART:20241027T010000
END:STANDARD
BEGIN:DAYLIGHT
TZOFFSETFROM:+0100
TZOFFSETTO:+0200
TZNAME:CEST
DTSTART:20250330T010000
END:DAYLIGHT
BEGIN:STANDARD
TZOFFSETFROM:+0200
TZOFFSETTO:+0100
TZNAME:CET
DTSTART:20251026T010000
END:STANDARD
END:VTIMEZONE
BEGIN:VEVENT
DTSTART;TZID=Europe/Stockholm:20241103T123000
DTEND;TZID=Europe/Stockholm:20241103T130000
DTSTAMP:20260421T125102
CREATED:20241015T085137Z
LAST-MODIFIED:20241017T064314Z
UID:286751-1730637000-1730638800@kaatach.se
SUMMARY:Barnteater i samarbete med Tyresö Teaterförening\, 3/11 kl 12\,30
DESCRIPTION:Trubadurens betraktelser\nKan ni sagorna? Är ni säkra på det? \nTrubaduren och hans vänner vill gärna berätta för er vad som verkligen hände\, en gång långt bort på andra sidan dalen i Österlandet! \nEn musikalisk\, fartfylld och spännande föreställning på 30 minuter. Riktad till barn från ca 5 år och deras medföljande storfolk. \nTeatern ingår i entrén\, bara visa armbandet vid insläppet.
URL:https://kaatach.se/evenemang/barnteater-i-samarbete-med-tyreso-teaterforening-3-11-kl-1230/
ATTACH;FMTTYPE=image/jpeg:https://kaatach.se/wp-content/uploads/2024/10/Gunnar-teater-1-scaled.jpg
END:VEVENT
END:VCALENDAR